BEGIN:VCALENDAR
VERSION:2.0
PRODID:-//KC digiSTORY Center - ECPv6.15.20//NONSGML v1.0//EN
CALSCALE:GREGORIAN
METHOD:PUBLISH
X-WR-CALNAME:KC digiSTORY Center
X-ORIGINAL-URL:https://digistory.org
X-WR-CALDESC:Events for KC digiSTORY Center
REFRESH-INTERVAL;VALUE=DURATION:PT1H
X-Robots-Tag:noindex
X-PUBLISHED-TTL:PT1H
BEGIN:VTIMEZONE
TZID:UTC
BEGIN:STANDARD
TZOFFSETFROM:+0000
TZOFFSETTO:+0000
TZNAME:UTC
DTSTART:20160101T000000
END:STANDARD
END:VTIMEZONE
BEGIN:VEVENT
DTSTART;TZID=UTC:20170625T100000
DTEND;TZID=UTC:20170625T170000
DTSTAMP:20260423T071439
CREATED:20170513T131900Z
LAST-MODIFIED:20170513T132108Z
UID:3080-1498384800-1498410000@digistory.org
SUMMARY:KC Maker Faire
DESCRIPTION:digiSTORY KC will host a booth at the 2017 Kansas City Maker Faire.  We will offer demonstrations of stop-motion animation\, green screen technology\, Google Cardboard 3D VR and other digital media programs.  Kids can make a thaumatrope or flip book.  Get you picture taken walking on the moon’s surface\, getting a “Salvy Splash” or standing next to the Eiffel tower using chroma key (green screen) technology.
URL:https://digistory.org/event/kc-maker-faire-2/
LOCATION:Union Station\, 30 W. Pershing Road\, Kansas City\, MO\, 64108\, United States
CATEGORIES:Animation,Digital Media,Stop-Motion Animation,Story Creation
ATTACH;FMTTYPE=image/jpeg:https://digistory.org/wp-content/uploads/2016/06/MakerFaireKCLogo-copy.jpg
ORGANIZER;CN="digiSTORY KC":MAILTO:rgreen@digistory.org
END:VEVENT
BEGIN:VEVENT
DTSTART;TZID=UTC:20170622T130000
DTEND;TZID=UTC:20170622T170000
DTSTAMP:20260423T071439
CREATED:20170512T203809Z
LAST-MODIFIED:20170512T215530Z
UID:3023-1498136400-1498150800@digistory.org
SUMMARY:Stop-Motion Animation Workshop #4 (open to public)
DESCRIPTION:Session 4: Teams complete the filming stage of their production and begin adding all remaining post-production elements: titles\, credits\, music sound tracks\, special effects\, etc. When their production is finished\, they post the piece to the digiSTORY KC YouTube Channel. Teams end the session by sharing their production pieces with the rest of the teams and discussing their work on the project. \n  \nSee session #1 for registration information.
URL:https://digistory.org/event/stop-motion-animation-workshop-4-open-public/
LOCATION:digiSTORY Academy\, 2nd Floor\, Connecting for Good\, 3210 Michigan Avenue\, Kansas City\, MO\, 64109\, United States
CATEGORIES:Animation,Digital Media,Stop-Motion Animation,Story Creation
ORGANIZER;CN="digiSTORY KC":MAILTO:rgreen@digistory.org
END:VEVENT
BEGIN:VEVENT
DTSTART;TZID=UTC:20170621T130000
DTEND;TZID=UTC:20170621T170000
DTSTAMP:20260423T071439
CREATED:20170512T203402Z
LAST-MODIFIED:20170512T215705Z
UID:3020-1498050000-1498064400@digistory.org
SUMMARY:Stop-Motion Animation Workshop #3 (open to public)
DESCRIPTION:Session 3: Teams spend this entire session producing their multimedia story. They are taking photos and adding them to their video timeline.   They are adding sound effects\, music tracks and special design effects. They are photographing actions against constructed backgrounds\, or they are adding backgrounds using chroma key (green screen) technology. \n  \nSee session #1 for registration information.
URL:https://digistory.org/event/stop-motion-animation-workshop-3-open-public/
LOCATION:digiSTORY Academy\, 2nd Floor\, Connecting for Good\, 3210 Michigan Avenue\, Kansas City\, MO\, 64109\, United States
CATEGORIES:Animation,Digital Media,Stop-Motion Animation,Story Creation
ORGANIZER;CN="digiSTORY KC":MAILTO:rgreen@digistory.org
END:VEVENT
BEGIN:VEVENT
DTSTART;TZID=UTC:20170620T130000
DTEND;TZID=UTC:20170620T170000
DTSTAMP:20260423T071439
CREATED:20170512T202927Z
LAST-MODIFIED:20170512T214813Z
UID:3018-1497963600-1497978000@digistory.org
SUMMARY:Stop-Motion Animation Workshop #2 (open to public)
DESCRIPTION:Session 2: Teams learn production techniques and ideas for various stop-motion formats (e.g. Claymation\, LEGO® figures\, etc.). They complete their work adding voiceovers to their production piece. Teams learn about chroma key technology and start planning and preparing backgrounds and props for their production sets. Teams learn about the three phases of the production process\, and they learn about careers in digital media. Team members choose from those job roles and begin their camera production work. Teams also learn about the importance of movement and expression for their characters. \nSee session #1 for registration information. \n 
URL:https://digistory.org/event/stop-motion-animation-workshop-2-open-public/
LOCATION:digiSTORY Academy\, 2nd Floor\, Connecting for Good\, 3210 Michigan Avenue\, Kansas City\, MO\, 64109\, United States
CATEGORIES:Animation,Digital Media,Stop-Motion Animation,Story Creation
ORGANIZER;CN="digiSTORY KC":MAILTO:rgreen@digistory.org
END:VEVENT
BEGIN:VEVENT
DTSTART;TZID=UTC:20170619T130000
DTEND;TZID=UTC:20170619T170000
DTSTAMP:20260423T071439
CREATED:20170512T202356Z
LAST-MODIFIED:20170512T221924Z
UID:3013-1497877200-1497891600@digistory.org
SUMMARY:Stop-Motion Animation Workshop #1 (open to public)
DESCRIPTION:Stop-motion animation is a fun way to capture your stories and entertain your friends and family. Many famous animators got their start creating stop-motion animation. This process involves posing characters in scenes and situations and photographing each stage of their movement to create animation that reveals their story. In this digiSTORY KC workshop\, participants will work in teams of 2 or 3 to create an original story which they will animate through Claymation\, LEGO® characters or other objects. They will photograph their character scenes against a Green Screen background using a laptop and webcam. They will add voiceovers\, sound effects\, music tracks\, titles\, credits and other features to provide multimedia interest. They will publish their animation to digiSTORY KC’s YouTube Channel where they can share their story with friends and family\, \nRecommended Ages: 9 – 15 \nDates: June 19 – 22 \nTimes: 1:00 p.m. – 5:00 p.m. \nCost: $150 per person (plus Eventbrite fees) \nLocation: digiSTORY Academy\, Suite 200\, Connecting for Good\, 3210 Michigan Avenue\, Kansas City\, Missouri 64109 \n \nNote: We offer a $15.00 discount per person when they register as a team. \nParticipants who complete workshop requirements for their team production will earn the following badge through LNRG-KC: \n \nSession 1: Participants learn about animation and how it works. They create a flip book and a thaumatrope to see how static pictures appear to move in animation and video. They learn about frames and frame rates for animation and video. They learn digiSTORY KC’s story model and work with teammates to create an original story. They create a storyboard and script for that story. They learn how animators use animatics to plan for voiceovers and other multimedia to pace the image requirements for the story.
URL:https://digistory.org/event/stop-motion-animation-workshop-open-public/
LOCATION:digiSTORY Academy\, 2nd Floor\, Connecting for Good\, 3210 Michigan Avenue\, Kansas City\, MO\, 64109\, United States
CATEGORIES:Animation,Digital Media,Stop-Motion Animation,Story Creation
ATTACH;FMTTYPE=image/jpeg:https://digistory.org/wp-content/uploads/2017/05/IMG_0138.jpg
ORGANIZER;CN="digiSTORY KC":MAILTO:rgreen@digistory.org
END:VEVENT
BEGIN:VEVENT
DTSTART;TZID=UTC:20170615T083000
DTEND;TZID=UTC:20170615T110000
DTSTAMP:20260423T071439
CREATED:20170512T164042Z
LAST-MODIFIED:20170512T170229Z
UID:3011-1497515400-1497524400@digistory.org
SUMMARY:Stop-Motion Animation #4 (Mattie Rhodes Center)
DESCRIPTION:THIS WORKSHOP IS OFFERED EXCLUSIVELY TO KIDS AT THE MATTIE RHODES ART CENTER \n  \nSession 4: Teams complete the filming stage of their production and begin adding all remaining post-production elements: titles\, credits\, music sound tracks\, special effects\, etc. When their production is finished\, they post the piece to the digiSTORY KC YouTube Channel. Teams end the session by sharing their production pieces with the rest of the teams and discussing their work on the project.
URL:https://digistory.org/event/stop-motion-animation-4-mattie-rhodes-center/
LOCATION:Mattie Rhodes Northeast\, 148 Topping Ave\, Kansas City\, MO\, 64123\, United States
CATEGORIES:Animation,Digital Media,Stop-Motion Animation,Story Creation
ORGANIZER;CN="digiSTORY KC":MAILTO:rgreen@digistory.org
END:VEVENT
BEGIN:VEVENT
DTSTART;TZID=UTC:20170614T083000
DTEND;TZID=UTC:20170614T110000
DTSTAMP:20260423T071439
CREATED:20170512T163711Z
LAST-MODIFIED:20170512T163711Z
UID:3009-1497429000-1497438000@digistory.org
SUMMARY:Stop-Motion Animation #3 (Mattie Rhodes Center)
DESCRIPTION:THIS WORKSHOP IS OFFERED EXCLUSIVELY TO KIDS AT THE MATTIE RHODES ART CENTER \n  \nSession 3: Teams spend this entire session producing their multimedia story. They are taking photos and adding them to their video timeline.   They are adding sound effects\, music tracks and special design effects. They are photographing actions against constructed backgrounds\, or they are adding backgrounds using chroma key (green screen) technology.
URL:https://digistory.org/event/stop-motion-animation-3-mattie-rhodes-center/
LOCATION:Mattie Rhodes Northeast\, 148 Topping Ave\, Kansas City\, MO\, 64123\, United States
CATEGORIES:Animation,Digital Media,Stop-Motion Animation,Story Creation
ORGANIZER;CN="digiSTORY KC":MAILTO:rgreen@digistory.org
END:VEVENT
BEGIN:VEVENT
DTSTART;TZID=UTC:20170613T083000
DTEND;TZID=UTC:20170613T110000
DTSTAMP:20260423T071439
CREATED:20170512T170319Z
LAST-MODIFIED:20170512T170319Z
UID:3007-1497342600-1497351600@digistory.org
SUMMARY:Stop-Motion Animation #2 (Mattie Rhodes Center)
DESCRIPTION:THIS WORKSHOP IS OFFERED EXCLUSIVELY TO KIDS AT THE MATTIE RHODES ART CENTER \n  \nSession 2: Teams learn production techniques and ideas for various stop-motion formats (e.g. Claymation\, LEGO® figures\, etc.). They complete their work adding voiceovers to their production piece. Teams learn about chroma key technology and start planning and preparing backgrounds and props for their production sets. Teams learn about the three phases of the production process\, and they learn about careers in digital media. Team members choose from those job roles and begin their camera production work. Teams also learn about the importance of movement and expression for their characters
URL:https://digistory.org/event/stop-motion-animation-2-mattie-rhodes-center/
LOCATION:Mattie Rhodes Northeast\, 148 Topping Ave\, Kansas City\, MO\, 64123\, United States
CATEGORIES:Animation,Digital Media,Stop-Motion Animation,Story Creation
ORGANIZER;CN="digiSTORY KC":MAILTO:rgreen@digistory.org
END:VEVENT
BEGIN:VEVENT
DTSTART;TZID=UTC:20170612T083000
DTEND;TZID=UTC:20170612T110000
DTSTAMP:20260423T071439
CREATED:20170512T162955Z
LAST-MODIFIED:20170512T210753Z
UID:3003-1497256200-1497265200@digistory.org
SUMMARY:Stop-Motion Animation #1 (Mattie Rhodes Center)
DESCRIPTION:THIS WORKSHOP IS OFFERED EXCLUSIVELY TO KIDS AT THE MATTIE RHODES CENTER \n  \nStop-motion animation is a fun way to capture your stories and entertain your friends and family. Many famous animators got their start creating stop-motion animation. This process involves posing characters in scenes and situations and photographing each stage of their movement to create animation that reveals their story. In this digiSTORY KC workshop\, participants will work in teams of 2 or 3 to create an original story which they will animate through Claymation\, LEGO® characters or other objects. They will photograph their character scenes against a Green Screen background using a laptop and webcam. They will add voiceovers\, sound effects\, music tracks\, titles\, credits and other features to provide multimedia interest. They will publish their animation to digiSTORY KC’s YouTube Channel where they can share their story with friends and family\, \n  \nSession 1: Participants learn about animation and how it works. They create a flip book and a thaumatrope to see how static pictures appear to move in animation and video. They learn about frames and frame rates for animation and video. They learn digiSTORY KC’s story model and work with teammates to create an original story. They create a storyboard and script for that story. They learn how animators use animatics to plan for voiceovers and other multimedia to pace the image requirements for the story.
URL:https://digistory.org/event/stop-motion-animation-1-mattie-rhodes-center/
LOCATION:Mattie Rhodes Northeast\, 148 Topping Ave\, Kansas City\, MO\, 64123\, United States
CATEGORIES:Animation,Digital Media,Stop-Motion Animation,Story Creation
ORGANIZER;CN="digiSTORY KC":MAILTO:rgreen@digistory.org
END:VEVENT
BEGIN:VEVENT
DTSTART;TZID=UTC:20170609T121500
DTEND;TZID=UTC:20170609T161500
DTSTAMP:20260423T071439
CREATED:20170512T161405Z
LAST-MODIFIED:20170512T161405Z
UID:3001-1497010500-1497024900@digistory.org
SUMMARY:Stop-Motion Animation #4 (Ivanhoe Neighborhood Ass'n)
DESCRIPTION:THIS WORKSHOP IS OFFERED EXCLUSIVELY TO KIDS FROM THE IVANHOE NEIGHBORHOOD ASSOCIATION \n  \nSession 4: Teams complete the filming stage of their production and begin adding all remaining post-production elements: titles\, credits\, music sound tracks\, special effects\, etc. When their production is finished\, they post the piece to the digiSTORY KC YouTube Channel. Teams end the session by sharing their production pieces with the rest of the teams and discussing their work on the project.
URL:https://digistory.org/event/stop-motion-animation-4-ivanhoe-neighborhood-assn/
LOCATION:digiSTORY Academy\, 2nd Floor\, Connecting for Good\, 3210 Michigan Avenue\, Kansas City\, MO\, 64109\, United States
CATEGORIES:Animation,Digital Media,Stop-Motion Animation,Story Creation
ORGANIZER;CN="digiSTORY KC":MAILTO:rgreen@digistory.org
END:VEVENT
BEGIN:VEVENT
DTSTART;TZID=UTC:20170608T121500
DTEND;TZID=UTC:20170608T161500
DTSTAMP:20260423T071439
CREATED:20170512T161106Z
LAST-MODIFIED:20170512T161106Z
UID:2999-1496924100-1496938500@digistory.org
SUMMARY:Stop-Motion Animation #3 (Ivanhoe Neighborhood Ass'n)
DESCRIPTION:THIS WORKSHOP IS OFFERED EXCLUSIVELY TO KIDS FROM THE IVANHOE NEIGHBORHOOD ASSOCIATION \nSession 3: Teams spend this entire session producing their multimedia story. They are taking photos and adding them to their video timeline.   They are adding sound effects\, music tracks and special design effects. They are photographing actions against constructed backgrounds\, or they are adding backgrounds using chroma key (green screen) technology.
URL:https://digistory.org/event/stop-motion-animation-3-ivanhoe-neighborhood-assn/
LOCATION:digiSTORY Academy\, 2nd Floor\, Connecting for Good\, 3210 Michigan Avenue\, Kansas City\, MO\, 64109\, United States
CATEGORIES:Animation,Digital Media,Stop-Motion Animation,Story Creation
ORGANIZER;CN="digiSTORY KC":MAILTO:rgreen@digistory.org
END:VEVENT
BEGIN:VEVENT
DTSTART;TZID=UTC:20170607T121500
DTEND;TZID=UTC:20170607T161500
DTSTAMP:20260423T071439
CREATED:20170512T155959Z
LAST-MODIFIED:20170512T155959Z
UID:2997-1496837700-1496852100@digistory.org
SUMMARY:Stop-Motion Animation #2: Ivanhoe Neighborhood Ass'n
DESCRIPTION:THIS WORKSHOP IS OFFERED EXCLUSIVELY TO KIDS FROM THE IVANHOE NEIGHBORHOOD ASSOCIATION \nSession 2: Teams learn production techniques and ideas for various stop-motion formats (e.g. Claymation\, LEGO® figures\, etc.). They complete their work adding voiceovers to their production piece. Teams learn about chroma key technology and start planning and preparing backgrounds and props for their production sets. Teams learn about the three phases of the production process\, and they learn about careers in digital media. Team members choose from those job roles and begin their camera production work. Teams also learn about the importance of movement and expression for their characters.
URL:https://digistory.org/event/stop-motion-animation-2-ivanhoe-neighborhood-assn/
LOCATION:digiSTORY Academy\, 2nd Floor\, Connecting for Good\, 3210 Michigan Avenue\, Kansas City\, MO\, 64109\, United States
CATEGORIES:Animation,Digital Media,Stop-Motion Animation,Story Creation
ORGANIZER;CN="digiSTORY KC":MAILTO:rgreen@digistory.org
END:VEVENT
BEGIN:VEVENT
DTSTART;TZID=UTC:20170606T121500
DTEND;TZID=UTC:20170606T161500
DTSTAMP:20260423T071439
CREATED:20170512T155428Z
LAST-MODIFIED:20170512T160215Z
UID:2993-1496751300-1496765700@digistory.org
SUMMARY:Stop-Motion Animation Workshop #1 (Ivanhoe Neighborhood Ass'n)
DESCRIPTION:THIS WORKSHOP IS OFFERED EXCLUSIVELY TO KIDS FROM THE IVANHOE NEIGHBORHOOD ASSOCIATION \nStop-motion animation is a fun way to capture your stories and entertain your friends and family. Many famous animators got their start creating stop-motion animation. This process involves posing characters in scenes and situations and photographing each stage of their movement to create animation that reveals their story. In this digiSTORY KC workshop\, participants will work in teams of 2 or 3 to create an original story which they will animate through Claymation\, LEGO® characters or other objects. They will photograph their character scenes against a Green Screen background using a laptop and webcam. They will add voiceovers\, sound effects\, music tracks\, titles\, credits and other features to provide multimedia interest. They will publish their animation to digiSTORY KC’s YouTube Channel where they can share their story with friends and family\, \nSession 1: Participants learn about animation and how it works. They create a flip book and a thaumatrope to see how static pictures appear to move in animation and video. They learn about frames and frame rates for animation and video.  They learn digiSTORY KC’s story model and work with teammates to create an original story. They create a storyboard and script for that story. They learn how animators use animatics to plan for voiceovers and other multimedia to pace the image requirements for the story.
URL:https://digistory.org/event/stop-motion-animation-workshop-1-ivanhoe-neighborhood-assn/
LOCATION:digiSTORY Academy\, 2nd Floor\, Connecting for Good\, 3210 Michigan Avenue\, Kansas City\, MO\, 64109\, United States
CATEGORIES:Animation,Digital Media,Stop-Motion Animation,Story Creation
ORGANIZER;CN="digiSTORY KC":MAILTO:rgreen@digistory.org
END:VEVENT
BEGIN:VEVENT
DTSTART;TZID=UTC:20170522T180000
DTEND;TZID=UTC:20170522T200000
DTSTAMP:20260423T071439
CREATED:20170406T152931Z
LAST-MODIFIED:20170406T155255Z
UID:2972-1495476000-1495483200@digistory.org
SUMMARY:Animation: Making Pictures Move
DESCRIPTION:​This workshop provides hands-on learning about how animation works.  Concepts include “key framing\,”  “frame rates” and how the “persistence of vision” makes still images appear to move to the viewer.  In this session each girl will construct a simple “thaumatrope\,” and a “flipbook” that simulates animation.  The girls will view examples of animation at different frame rates and see how animators place images together to create animations. They will also have a brief hands-on experience using ZU3D software and LEGO® characters to piece together a short animated action sequence. \nLearners will have fun making a flip book and a thaumatrope to see how animation works
URL:https://digistory.org/event/animation-making-pictures-move/
LOCATION:digiSTORY Academy\, 2nd Floor\, Connecting for Good\, 3210 Michigan Avenue\, Kansas City\, MO\, 64109\, United States
CATEGORIES:Animation
ORGANIZER;CN="digiSTORY KC":MAILTO:rgreen@digistory.org
END:VEVENT
END:VCALENDAR